BEGIN:VCALENDAR
VERSION:2.0
PRODID:icalendar-ruby
CALSCALE:GREGORIAN
METHOD:PUBLISH
BEGIN:VEVENT
DTSTAMP:20260420T024639Z
UID:13-265821@aboundinggraceministries.org
DTSTART:20260502T013000Z
DTEND:20260502T020000Z
CLASS:PUBLIC
CREATED:20260419T151544
DESCRIPTION:Come and watch a special showing of the new movie\, "David" tog
 ether in the church sanctuary. All ages invited! 
LAST-MODIFIED:20260419T151544
LOCATION:
SUMMARY:Movie Night - David
URL;VALUE=URI:https://aboundinggraceministries.org/events/movie-night-david
 /2026-05-01
ATTACH;FILENAME=ChatGPT-Image-Apr-19-2026-06_15_03-PM.png;FMTTYPE=image/png
 :https://dq5pwpg1q8ru0.cloudfront.net/2026/04/19/22/15/43/3a71de20-cf91-48
 00-b979-d1ff6963998d/ChatGPT-Image-Apr-19-2026-06_15_03-PM.png
END:VEVENT
END:VCALENDAR
